{"text_format":"1","workbook":"xlsx","n_sheets":4,"sheets":["Schedule","Protokoll","Tables","Official Results"],"not_rendered":{"charts":0,"images":0,"macros":0,"external_links":0,"defined_names":3,"comments":0,"pivot_tables":0},"unopened":[],"bounds":{"document_bytes":16777216,"sheet_cells":100000,"rows_first":2000,"rows_last":500,"rows_between":2000,"halvings":0,"cell_chars":16384,"cell_head_chars":4096},"cells_cut":0,"cells_raw":0,"read":"whole","date_system":"1900"}

{"sheet":"Schedule","index":0,"n_rows":122,"n_cols":79,"rows_kept":122,"cut":false,"hidden":false,"merged":[[69,0,70,8],[1,0,2,8]]}
["lp.","Godzina","Boisko","Grupa","Druzyna","Druzyna",null,null,"Sędzia",null,null,null,null,null,null,null,null,null,null,null,null,null,null,null,null,null,null,null,null,null,null,null,null,null,null,null,null,null,null,null,"Miejsce",null,null,null,null,null,null,null,null,null,null,null,null,null,null,null,null,null,null,null,null,null,null,null,null,null,null,null,null,null,null,null,null,null,null,null,null,null,"Miejsce"]
["SOBOTA",null,null,null,null,null,null,null,null,null,"Men Group A","A1",null,"A2",null,"A3",null,null,"+","-","\\","Point","Place",null,"Miejsce",null,"Men Group D","D1",null,"D2",null,"D3",null,null,"+","-","\\","Pkt.","Miejsce",null,"Miejsce",null,"Man Group G","G1",null,"G2",null,"G3",null,"G4",null,"G5",null,"G6",null,null,"+","-","\\","Pkt","place",null,"Miejsce",null,"Man Place (7-9)","H1",null,"H2",null,"H3",null,null,"+","-","\\","Pkt.","Miejsce"]
[]
["1.","07:30:00",1,{"$f":"#REF!","v":{"$error":"#REF!"}},{"$f":"#REF!","v":{"$error":"#REF!"}},{"$f":"#REF!","v":{"$error":"#REF!"}},7,3,null,null,"Italy",null,null,0,0,0,0,null,{"$f":"N4+P4","v":0},{"$f":"-O4-Q4","v":0},{"$f":"T4+S4","v":0},6,1,"1.","Italy",null,{"$f":"Y4","v":"Italy"},null,null,{"$f":"H50","v":5},{"$f":"G50","v":0},{"$f":"G40","v":17},{"$f":"H40","v":1},null,{"$f":"AD4+AF4","v":22},{"$f":"-AG4-AE4","v":-1},{"$f":"AJ4+AI4","v":21},6,1,"1.","Italy",null,{"$f":"AO4","v":"Italy"},null,null,null,null,null,null,null,null,{"$f":"G58","v":4},{"$f":"H58","v":2},{"$f":"AS9","v":5},{"$f":"AR9","v":0},null,{"$f":"AZ4+BB4","v":9},{"$f":"-BA4-BC4","v":-2},{"$f":"BF4+BE4","v":7},6,3,"1.","Netherlands",null,{"$f":"AO6","v":"Czech Rep."},null,null,{"$f":"G67","v":3},{"$f":"H67","v":4},{"$f":"BO6","v":1},{"$f":"BN6","v":1},null,{"$f":"BP4+BR4","v":4},{"$f":"-BQ4-BS4","v":-5},{"$f":"BV4+BU4","v":-1},null,null,"1.","1h"]
["2.","07:30:00",2,{"$f":"#REF!","v":{"$error":"#REF!"}},{"$f":"#REF!","v":{"$error":"#REF!"}},{"$f":"#REF!","v":{"$error":"#REF!"}},7,1,null,null,"Poland",{"$f":"Schedule!R3","v":0},{"$f":"Schedule!Q3","v":0},null,null,{"$f":"Schedule!Q22","v":0},{"$f":"Schedule!R22","v":0},null,{"$f":"L5+P5","v":0},{"$f":"-M5-Q5","v":0},{"$f":"T5+S5","v":0},4,2,"2.","Poland",null,{"$f":"Y10","v":"Sweden"},{"$f":"G50","v":0},{"$f":"H50","v":5},null,null,{"$f":"H31","v":3},{"$f":"G31","v":3},null,{"$f":"AF5+AB5","v":3},{"$f":"-AC5-AG5","v":-8},{"$f":"AJ5+AI5","v":-5},3,3,"2.","Sweden",null,{"$f":"AO9","v":"Germany"},null,null,null,null,null,null,5,1,null,null,{"$f":"G59","v":6},{"$f":"H59","v":3},null,{"$f":"BB5+AX5","v":11},{"$f":"-BC5-AY5","v":-4},7,6,1,"2.","Germany",null,{"$f":"AO11","v":"Lithuania"},{"$f":"H67","v":4},{"$f":"G67","v":3},{"$f":"AT31","v":0},{"$f":"AS31","v":0},{"$f":"BQ6","v":2},{"$f":"BP6","v":4},null,{"$f":"BN5+BR5","v":6},{"$f":"-BO5-BS5","v":-7},{"$f":"BV5+BU5","v":-1},null,null,"2.","2h"]
["3.","07:30:00",3,{"$f":"#REF!","v":{"$error":"#REF!"}},{"$f":"#REF!","v":{"$error":"#REF!"}},{"$f":"#REF!","v":{"$error":"#REF!"}},6,0,null,null,"Lithuania",{"$f":"Schedule!Q14","v":0},{"$f":"Schedule!R14","v":0},{"$f":"Schedule!R22","v":0},{"$f":"Schedule!Q22","v":0},null,null,null,{"$f":"L6+N6","v":0},{"$f":"-M6-O6","v":0},{"$f":"T6+S6","v":0},2,3,"3.","Lithuania",null,{"$f":"Y16","v":"Czech Republic"},{"$f":"G31","v":3},{"$f":"H31","v":3},{"$f":"G38","v":4},{"$f":"H31","v":3},null,null,null,{"$f":"AB6+AD6","v":7},{"$f":"-AE6-AC6","v":-6},{"$f":"AJ6+AI6","v":1},3,2,"3.","Czech Rep.",null,{"$f":"AO14","v":"Netherland"},null,null,null,null,null,null,{"$f":"G60","v":12},{"$f":"H60","v":3},{"$f":"AW8","v":4},{"$f":"AV8","v":2},null,null,null,{"$f":"AX6+AZ6","v":16},{"$f":"-AY6-BA6","v":-5},11,6,2,"3.","Italy",null,{"$f":"AO16","v":"Russia"},{"$f":"G82","v":1},{"$f":"H82","v":1},{"$f":"H95","v":4},{"$f":"G95","v":2},null,null,null,{"$f":"BN6+BP6","v":5},{"$f":"-BO6-BQ6","v":-3},{"$f":"BV6+BU6","v":2},null,null,"3.","3h"]
["4.","08:05:00",1,{"$f":"K18","v":"W&U-21 (Group A)"},{"$f":"K19","v":"Germany "},{"$f":"K20","v":"Czech Republik"},8,1,null,null,null,null,null,null,null,null,null,null,null,null,null,null,null,null,null,null,null,null,null,null,null,null,null,null,null,null,null,null,null,null,null,null,{"$f":"AO5","v":"Sweden"},null,null,{"$f":"G74","v":1},{"$f":"H74","v":5},{"$f":"H60","v":3},{"$f":"G60","v":12},"\\",null,null,null,null,null,null,{"$f":"AV7+AT7","v":4},{"$f":"-AW7-AU7","v":-17},-13,2,6,"4.","Denmark",null,null,null,null,null,null,null,null,null,null,null,null,null,null,null,"Miejsce"]
["5.","08:05:00",2,{"$f":"K23","v":"W&U-21 (Group B)"},{"$f":"K24","v":"Great Britain"},{"$f":"K25","v":"Russia"},10,1,null,null,"Men Group B","B1",null,"B2",null,"B3",null,null,"+","-","\\","Point","Place",null,"Miejsce",null,"Men Group E","E1",null,"E2",null,"E3",null,null,"+","-","\\","Pkt.","Miejsce",null,"Miejsce",null,{"$f":"AO10","v":"Denmark"},{"$f":"H58","v":2},{"$f":"G58","v":4},null,null,{"$f":"G72","v":2},{"$f":"H72","v":4},null,null,null,null,null,null,null,{"$f":"AR8+AV8","v":4},{"$f":"-AS8-AW8","v":-8},-4,2,4,"5.","Poland",null,"W&U-21 Place (7-9)","P1",null,"P2",null,"P3",null,null,"+","-","\\","Pkt.","Miejsce"]
["6.","08:05:00",3,{"$f":"K28","v":"W&U-21 (Group C)"},{"$f":"K29","v":"Italy"},{"$f":"K30","v":"Poland"},4,4,null,null,"Germany",null,null,{"$f":"Schedule!Q4","v":0},{"$f":"Schedule!R4","v":0},{"$f":"Schedule!R12","v":0},{"$f":"Schedule!Q12","v":0},null,{"$f":"N9+P9","v":0},{"$f":"-Q9-O9","v":0},{"$f":"T9+S9","v":0},6,1,"1.","Germany",null,{"$f":"Y9","v":"Germany"},null,null,{"$f":"H51","v":2},{"$f":"G51","v":1},{"$f":"G40","v":17},{"$f":"H40","v":1},null,{"$f":"AD9+AF9","v":19},{"$f":"-AG9-AE9","v":-2},{"$f":"AJ9+AI9","v":17},6,1,"1.","Germany",null,{"$f":"AO15","v":"Poland"},{"$f":"G73","v":0},{"$f":"H73","v":5},{"$f":"BC5","v":3},{"$f":"BB5","v":6},null,null,null,null,null,null,null,null,null,{"$f":"AT9+AR9","v":3},{"$f":"-AU9-AS9","v":-11},-8,2,5,"6.","Sweden",null,{"$f":"AO21","v":"Russia"},null,null,{"$f":"G68","v":3},{"$f":"H68","v":3},{"$f":"BO11","v":6},{"$f":"BN11","v":3},null,{"$f":"BP9+BR9","v":9},{"$f":"-BQ9-BS9","v":-6},{"$f":"BV9+BU9","v":3},null,null,"1.","1p"]
["7.","08:40:00",1,{"$f":"K33","v":"U21M Group A"},{"$f":"K34","v":"Germany"},{"$f":"K35","v":"Lithuania"},9,2,null,null,"Sweden",{"$f":"Schedule!R4","v":0},null,null,null,{"$f":"Schedule!Q23","v":0},{"$f":"Schedule!R23","v":0},null,{"$f":"P10+L10","v":0},{"$f":"-M10-Q10","v":0},{"$f":"T10+S10","v":0},4,2,"2.","Sweden",null,{"$f":"Y15","v":"Denmark"},{"$f":"G51","v":1},{"$f":"H51","v":2},null,null,{"$f":"H32","v":8},{"$f":"G32","v":0},null,{"$f":"AF10+AB10","v":9},{"$f":"-AC10-AG10","v":-2},{"$f":"AJ10+AI10","v":7},4,2,"2.","Denmark",null,null,null,null,null,null,null,null,null,null,null,null,null,null,null,null,null,null,null,null,null,null,null,{"$f":"AO26","v":"Denmark"},{"$f":"H68","v":3},{"$f":"G68","v":3},null,null,{"$f":"BQ11","v":1},{"$f":"BP11","v":5},null,{"$f":"BN10+BR10","v":4},{"$f":"-BO10-BS10","v":-8},{"$f":"BV10+BU10","v":-4},null,null,"2.","2p"]
["8.","08:40:00",2,{"$f":"K38","v":"U-21M Group B"},{"$f":"K39","v":"Denmark "},{"$f":"K40","v":"Italy "},3,3,null,null,"Russia",{"$f":"Schedule!Q12","v":0},{"$f":"Schedule!R12","v":0},{"$f":"Schedule!R23","v":0},{"$f":"Schedule!Q23","v":0},null,null,null,{"$f":"L11+N11","v":0},{"$f":"-O11-M11","v":0},{"$f":"T11+S11","v":0},2,3,"3.","Russia",null,{"$f":"Y6","v":"Lithuania"},{"$f":"H41","v":2},{"$f":"G41","v":14},{"$f":"G32","v":0},{"$f":"H32","v":8},null,null,null,{"$f":"AB11+AD11","v":2},{"$f":"-AE11-AC11","v":-22},{"$f":"AJ11+AI11","v":-20},2,3,"3.","Lithuania",null,"W&U-21 Group G","O1",null,"O2",null,"O3",null,"O4",null,"O5",null,"O6",null,null,"+","-","\\","Pkt.","place",null,"Miejsce",null,{"$f":"AO31","v":"Poland U-21"},{"$f":"G83","v":3},{"$f":"H83","v":6},{"$f":"H93","v":5},{"$f":"G93","v":1},null,null,null,{"$f":"BN11+BP11","v":8},{"$f":"-BO11-BQ11","v":-7},{"$f":"BV11+BU11","v":1},null,null,"3.","3p"]
["9.","08:40:00",3,{"$f":"K43","v":"U-21M Group C"},{"$f":"K44","v":"Netherlands"},{"$f":"K45","v":"Poland A"},3,5,null,null,null,null,null,null,null,null,null,null,null,null,null,null,null,null,null,null,null,null,null,null,null,null,null,null,null,null,null,null,null,null,null,null,{"$f":"AO19","v":"Germany"},null,null,null,null,null,null,null,null,{"$f":"G61","v":5},{"$f":"H61","v":3},{"$f":"AS17","v":4},{"$f":"AR17","v":2},null,{"$f":"AZ12+BB12","v":9},{"$f":"-BC12-BA12","v":-5},{"$f":"BF12+BE12","v":4},6,1,"1.","Germany",null,null,null,null,null,null,null,null,null,null,null,null,null,null,null,"Miejsce"]
["10.","09:15:00",1,{"$f":"#REF!","v":{"$error":"#REF!"}},{"$f":"#REF!","v":{"$error":"#REF!"}},{"$f":"#REF!","v":{"$error":"#REF!"}},0,10,null,null,"Men Group C","C1",null,"C2",null,"C3",null,null,"+","-","\\","Point","Place",null,"Miejsce",null,"Men Group F","F1",null,"F2",null,"F3",null,null,"+","-","\\","Pkt.","Miejsce",null,"Miejsce",null,{"$f":"AO24","v":"Germany U-21"},null,null,null,null,null,null,{"$f":"AU15","v":3},{"$f":"AT15","v":3},null,null,{"$f":"G62","v":13},{"$f":"H62","v":1},null,{"$f":"BB13+AX13","v":16},{"$f":"-BC13-AY13","v":-4},12,5,3,"2.","Germany u-21",null,"U-21M Place (7-9)","Z1",null,"Z2",null,"Z3",null,null,"+","-","\\","Pkt.","Miejsce"]
["11.","09:15:00",2,{"$f":"#REF!","v":{"$error":"#REF!"}},{"$f":"#REF!","v":{"$error":"#REF!"}},{"$f":"#REF!","v":{"$error":"#REF!"}},0,8,null,null,"Netherlands",null,null,{"$f":"Schedule!Q5","v":0},{"$f":"Schedule!R5","v":0},{"$f":"Schedule!R13","v":0},{"$f":"Schedule!Q13","v":0},null,{"$f":"N14+P14","v":0},{"$f":"-Q14-O14","v":0},{"$f":"T14+S14","v":0},6,1,"1.","Netherlands",null,{"$f":"Y14","v":"Netherlands"},null,null,{"$f":"H49","v":3},{"$f":"G49","v":3},{"$f":"G41","v":14},{"$f":"H41","v":2},null,{"$f":"AF14+AD14","v":17},{"$f":"-AE14-AG14","v":-5},{"$f":"AJ14+AI14","v":12},5,1,"1.","Netherland",null,{"$f":"AO29","v":"Italy"},null,null,null,null,null,null,{"$f":"G63","v":3},{"$f":"H63","v":1},{"$f":"AW16","v":4},{"$f":"AV16","v":2},null,null,null,{"$f":"AX14+AZ14","v":7},{"$f":"-BA14-AY14","v":-3},4,6,2,"3.","Italy",null,{"$f":"AO36","v":"Denmark"},null,null,{"$f":"G69","v":6},{"$f":"H69","v":2},{"$f":"BO16","v":6},{"$f":"BN16","v":1},null,{"$f":"BP14+BR14","v":12},{"$f":"-BQ14-BS14","v":-3},{"$f":"BV14+BU14","v":9},null,null,"1.","1z"]
["12.","09:15:00",3,{"$f":"#REF!","v":{"$error":"#REF!"}},{"$f":"#REF!","v":{"$error":"#REF!"}},{"$f":"#REF!","v":{"$error":"#REF!"}},1,7,null,null,"Demark",{"$f":"Schedule!R5","v":0},{"$f":"Schedule!Q5","v":0},null,null,{"$f":"Schedule!Q21","v":0},{"$f":"Schedule!R21","v":0},null,{"$f":"P15+L15","v":0},{"$f":"-Q15-M15","v":0},{"$f":"T15+S15","v":0},4,2,"2.","Denmark",null,{"$f":"Y5","v":"Poland"},{"$f":"G49","v":3},{"$f":"H49","v":3},null,null,{"$f":"H33","v":6},{"$f":"G33","v":1},null,{"$f":"AF15+AB15","v":9},{"$f":"-AG15-AC15","v":-4},{"$f":"AJ15+AI15","v":5},5,2,"2.","Poland",null,{"$f":"AO20","v":"Poland"},null,null,{"$f":"G77","v":3},{"$f":"H77","v":3},{"$f":"H63","v":1},{"$f":"G63","v":3},"\\",null,null,null,null,null,null,{"$f":"AV15+AT15","v":4},{"$f":"-AW15-AU15","v":-6},-2,3,4,"4.","Poland",null,{"$f":"AO41","v":"Lithuania"},{"$f":"H69","v":2},{"$f":"G69","v":6},null,null,{"$f":"BQ16","v":3},{"$f":"BP16","v":4},null,{"$f":"BN15+BR15","v":5},{"$f":"-BO15-BS15","v":-10},{"$f":"BV15+BU15","v":-5},null,null,"2.","2z"]
["13.","09:50:00",1,{"$f":"K23","v":"W&U-21 (Group B)"},{"$f":"K26","v":"Poland U-21"},{"$f":"K24","v":"Great Britain"},1,12,null,null,"Czech Republik",{"$f":"Schedule!Q13","v":0},{"$f":"Schedule!R13","v":0},{"$f":"Schedule!R21","v":0},{"$f":"Schedule!Q21","v":0},null,null,null,{"$f":"L16+N16","v":0},{"$f":"-M16-O16","v":0},{"$f":"T16+S16","v":0},2,3,"3.","Czech Republic",null,{"$f":"Y11","v":"Russia"},{"$f":"H41","v":2},{"$f":"G41","v":14},{"$f":"G33","v":1},{"$f":"H33","v":6},null,null,null,{"$f":"AB16+AD16","v":3},{"$f":"-AC16-AE16","v":-20},{"$f":"AJ16+AI16","v":-17},null,3,"3.","Russia",null,{"$f":"AO25","v":"Great Britain"},{"$f":"H61","v":3},{"$f":"G61","v":5},null,null,{"$f":"G75","v":2},{"$f":"H75","v":4},null,null,null,null,null,null,null,{"$f":"AR16+AV16","v":5},{"$f":"-AS16-AW16","v":-9},-4,2,5,"5.","Great Britain",null,{"$f":"AO46","v":"Poland B"},{"$f":"G81","v":1},{"$f":"H81","v":6},{"$f":"H94","v":4},{"$f":"G94","v":3},null,null,null,{"$f":"BN16+BP16","v":5},{"$f":"-BO16-BQ16","v":-9},{"$f":"BV16+BU16","v":-4},null,null,"3.","3z"]
["14.","09:50:00",2,{"$f":"K28","v":"W&U-21 (Group C)"},{"$f":"K31","v":"Gemany U-21"},{"$f":"K29","v":"Italy"},1,3,null,null,null,null,null,null,null,null,null,null,null,null,null,null,null,null,null,null,null,null,null,null,null,null,null,null,null,null,null,null,null,null,null,null,{"$f":"AO30","v":"Czech Rep."},{"$f":"G76","v":2},{"$f":"H76","v":4},{"$f":"H62","v":1},{"$f":"G62","v":13},null,null,null,null,null,null,null,null,null,{"$f":"AT17+AR17","v":3},{"$f":"-AU17-AS17","v":-17},-14,2,6,"6.","Czech Rep."]
["15.","09:50:00",3,{"$f":"K18","v":"W&U-21 (Group A)"},{"$f":"K21","v":"Denmark"},{"$f":"K19","v":"Germany "},2,10,null,null,"W&U-21 (Group A)","I1",null,"I2",null,"I3",null,null,"+","-","\\","Pkt.","Miejsce",null,"Miejsce",null,"W&U-21 (Group D)","L1",null,"L2",null,"L3",null,null,"+","-","\\","Pkt.","Miejsce",null,"Miejsce"]
["16.","10:25:00",1,{"$f":"K38","v":"U-21M Group B"},{"$f":"K41","v":"Poland B"},{"$f":"K39","v":"Denmark "},2,2,null,null,"Germany ",null,null,{"$f":"G7","v":8},{"$f":"H7","v":1},{"$f":"H18","v":10},{"$f":"G18","v":2},null,{"$f":"N19+P19","v":18},{"$f":"-O19-Q19","v":-3},{"$f":"T19+S19","v":15},6,1,"1.","Germany ",null,{"$f":"Schedule!Y19","v":"Germany "},null,null,{"$f":"Schedule!H53","v":9},{"$f":"Schedule!G53","v":0},{"$f":"Schedule!G43","v":9},{"$f":"Schedule!H43","v":1},null,{"$f":"AF19+AD19","v":18},{"$f":"-AG19-AE19","v":-1},{"$f":"AJ19+AI19","v":17},6,1,"1.","Germany",null,"U-21M Group G","G1",null,"G2",null,"G3",null,"G4",null,"G5",null,"G6",null,null,"+","-","\\","Pkt.","place",null,"Miejsce"]
["17.","10:25:00",2,{"$f":"K43","v":"U-21M Group C"},{"$f":"K46","v":"Hungary"},{"$f":"K44","v":"Netherlands"},5,6,null,null,"Czech Republik",{"$f":"H7","v":1},{"$f":"G7","v":8},null,null,{"$f":"G26","v":4},{"$f":"H26","v":4},null,{"$f":"P20+L20","v":5},{"$f":"-Q20-M20","v":-12},{"$f":"T20+S20","v":-7},3,null,"2.","Czech Republik",null,{"$f":"Schedule!Y25","v":"Russia"},{"$f":"Schedule!G53","v":0},{"$f":"Schedule!H53","v":9},null,null,{"$f":"Schedule!H34","v":3},{"$f":"Schedule!G34","v":6},null,{"$f":"AB20+AF20","v":3},{"$f":"-AG20-AC20","v":-15},{"$f":"AJ20+AI20","v":-12},2,3,"2.","Poland",null,{"$f":"AO34","v":"Germany"},null,null,null,null,null,null,null,null,{"$f":"G64","v":6},{"$f":"H64","v":2},{"$f":"AS25","v":4},{"$f":"AR25","v":2},null,{"$f":"AZ20+BB20","v":10},{"$f":"-BA20-BC20","v":-4},{"$f":"BF20+BE20","v":6},6,null,"1.","Italy"]
["18.","10:25:00",3,{"$f":"K33","v":"U21M Group A"},{"$f":"K36","v":"Russia"},{"$f":"K34","v":"Germany"},1,5,null,null,"Denmark",{"$f":"G18","v":2},{"$f":"H18","v":10},{"$f":"H26","v":4},{"$f":"G26","v":4},null,null,null,{"$f":"L21+N21","v":6},{"$f":"-M21-O21","v":-14},{"$f":"T21+S21","v":-8},3,null,"3.","Denmark",null,{"$f":"Schedule!Y31","v":"Poland"},{"$f":"Schedule!H43","v":1},{"$f":"Schedule!G43","v":9},{"$f":"Schedule!G34","v":6},{"$f":"Schedule!H34","v":3},null,null,null,{"$f":"AD21+AB21","v":7},{"$f":"-AC21-AE21","v":-12},{"$f":"AJ21+AI21","v":-5},4,2,"3.","Russia",null,{"$f":"AO39","v":"Italy"},null,null,null,null,null,null,{"$f":"AU23","v":6},{"$f":"AT23","v":2},null,null,{"$f":"G65","v":4},{"$f":"H65","v":2},null,{"$f":"BB21+AX21","v":10},{"$f":"-BC21-AY21","v":-4},6,6,null,"2.","Germany"]
["19.","11:00:00",1,{"$f":"#REF!","v":{"$error":"#REF!"}},{"$f":"#REF!","v":{"$error":"#REF!"}},{"$f":"#REF!","v":{"$error":"#REF!"}},9,2,null,null,null,null,null,null,null,null,null,null,null,null,null,null,null,null,null,null,null,null,null,null,null,null,null,null,null,null,null,null,null,null,null,null,{"$f":"AO44","v":"Poland A"},null,null,null,null,null,null,{"$f":"G66","v":5},{"$f":"H66","v":4},{"$f":"AW24","v":3},{"$f":"AV24","v":3},null,null,null,{"$f":"AX22+AZ22","v":8},{"$f":"-AY22-BA22","v":-7},1,5,null,"3.","Poland A"]
["20.","11:00:00",2,{"$f":"#REF!","v":{"$error":"#REF!"}},{"$f":"#REF!","v":{"$error":"#REF!"}},{"$f":"#REF!","v":{"$error":"#REF!"}},4,2,null,null,"W&U-21 (Group B)","J1",null,"J2",null,"J3",null,null,"+","-","\\","Pkt.","Miejsce",null,"Miejsce",null,"W&U-21 (Group E)","M1",null,"M2",null,"M3",null,null,"+","-","\\","Pkt.","Miejsce",null,"Miejsce",null,{"$f":"AO35","v":"Hungary"},null,null,{"$f":"G80","v":2},{"$f":"H80","v":6},{"$f":"H66","v":4},{"$f":"G66","v":5},"\\",null,null,null,null,null,null,{"$f":"AV23+AT23","v":6},{"$f":"-AW23-AU23","v":-11},-5,2,null,"4.","Netherlands"]
["21.","11:00:00",3,{"$f":"#REF!","v":{"$error":"#REF!"}},{"$f":"#REF!","v":{"$error":"#REF!"}},{"$f":"#REF!","v":{"$error":"#REF!"}},7,3,null,null,"Great Britain",null,null,{"$f":"G8","v":10},{"$f":"H8","v":1},{"$f":"H16","v":12},{"$f":"G16","v":1},null,{"$f":"N24+P24","v":22},{"$f":"-Q24-O24","v":-2},{"$f":"T24+S24","v":20},6,1,"1.","Great Britain",null,{"$f":"Schedule!Y24","v":"Great Britain"},null,null,{"$f":"Schedule!H54","v":3},{"$f":"Schedule!G54","v":4},{"$f":"Schedule!G43","v":9},{"$f":"Schedule!H43","v":1},null,{"$f":"AD24+AF24","v":12},{"$f":"-AE24-AG24","v":-5},{"$f":"AJ24+AI24","v":7},4,2,"1.","Germany U-21",null,{"$f":"AO40","v":"Netherlands"},{"$f":"H64","v":2},{"$f":"G64","v":6},null,null,{"$f":"G78","v":3},{"$f":"H78","v":3},null,null,null,null,null,null,null,{"$f":"AR24+AV24","v":5},{"$f":"-AS24-AW24","v":-9},-4,3,null,"5.","Hungary"]
["22.","11:35:00",1,{"$f":"K28","v":"W&U-21 (Group C)"},{"$f":"K30","v":"Poland"},{"$f":"K31","v":"Gemany U-21"},4,6,null,null,"Russia",{"$f":"H8","v":1},{"$f":"G8","v":10},null,null,{"$f":"G27","v":4},{"$f":"H27","v":3},null,{"$f":"P25+L25","v":5},{"$f":"-Q25-M25","v":-13},{"$f":"T25+S25","v":-8},4,2,"2.","Russia",null,{"$f":"Schedule!Y30","v":"Germany u-21"},{"$f":"Schedule!G54","v":4},{"$f":"Schedule!H54","v":3},null,null,{"$f":"Schedule!H35","v":5},{"$f":"Schedule!G35","v":1},null,{"$f":"AF25+AB25","v":9},{"$f":"-AG25-AC25","v":-4},{"$f":"AJ25+AI25","v":5},6,1,"2.","Great Britain",null,{"$f":"AO45","v":"Russia"},{"$f":"G79","v":2},{"$f":"H79","v":4},{"$f":"H65","v":2},{"$f":"G65","v":4},null,null,null,null,null,null,null,null,null,{"$f":"AT25+AR25","v":4},{"$f":"-AU25-AS25","v":-8},-4,2,null,"6.","Russia"]
["23.","11:35:00",2,{"$f":"K18","v":"W&U-21 (Group A)"},{"$f":"K20","v":"Czech Republik"},{"$f":"K21","v":"Denmark"},4,4,null,null,"Poland U-21",{"$f":"G16","v":1},{"$f":"H16","v":12},{"$f":"H27","v":3},{"$f":"G27","v":4},null,null,null,{"$f":"L26+N26","v":4},{"$f":"-M26-O26","v":-16},{"$f":"T26+S26","v":-12},2,3,"3.","Poland U-21",null,{"$f":"Schedule!Y21","v":"Denmark"},{"$f":"Schedule!H43","v":1},{"$f":"Schedule!G43","v":9},{"$f":"Schedule!G35","v":1},{"$f":"Schedule!H35","v":5},null,null,null,{"$f":"AB26+AD26","v":2},{"$f":"-AC26-AE26","v":-14},{"$f":"AJ26+AI26","v":-12},2,3,"3.","Denmark"]
["24.","11:35:00",3,{"$f":"K23","v":"W&U-21 (Group B)"},{"$f":"K25","v":"Russia"},{"$f":"K26","v":"Poland U-21"},4,3]
["25.","12:10:00",1,{"$f":"K43","v":"U-21M Group C"},{"$f":"K45","v":"Poland A"},{"$f":"K46","v":"Hungary"},5,5,null,null,"W&U-21 (Group C)","K1",null,"K2",null,"K3",null,null,"+","-","\\","Pkt.","Miejsce",null,"Miejsce",null,"W&U-21 (Group F)","N1",null,"N2",null,"N3",null,null,"+","-","\\","Pkt.","Miejsce",null,"Miejsce"]
["26.","12:10:00",2,{"$f":"K33","v":"U21M Group A"},{"$f":"K35","v":"Lithuania"},{"$f":"K36","v":"Russia"},2,5,null,null,"Italy",null,null,{"$f":"G9","v":4},{"$f":"H9","v":4},{"$f":"H17","v":3},{"$f":"G17","v":1},null,{"$f":"N29+P29","v":7},{"$f":"-Q29-O29","v":-5},{"$f":"T29+S29","v":2},5,1,"1.","Italy",null,{"$f":"Schedule!Y29","v":"Italy"},null,null,{"$f":"Schedule!H52","v":9},{"$f":"Schedule!G52","v":2},{"$f":"Schedule!G44","v":7},{"$f":"Schedule!H44","v":2},null,{"$f":"AD29+AF29","v":16},{"$f":"-AE29-AG29","v":-4},{"$f":"AJ29+AI29","v":12},6,1,"1.","Italy"]
["27.","12:10:00",3,{"$f":"K38","v":"U-21M Group B"},{"$f":"K40","v":"Italy "},{"$f":"K41","v":"Poland B"},5,3,null,null,"Poland",{"$f":"H9","v":4},{"$f":"G9","v":4},null,null,{"$f":"G25","v":4},{"$f":"H25","v":6},null,{"$f":"P30+L30","v":8},{"$f":"-M30-Q30","v":-10},{"$f":"T30+S30","v":-2},2,3,"2.","Germany u-21",null,{"$f":"Schedule!Y20","v":"Czech Republik"},{"$f":"Schedule!G52","v":2},{"$f":"Schedule!H52","v":9},null,null,{"$f":"Schedule!H36","v":6},{"$f":"Schedule!G36","v":5},null,{"$f":"AF30+AB30","v":8},{"$f":"-AG30-AC30","v":-14},{"$f":"AJ30+AI30","v":-6},4,2,"2.","Czech Rep."]
["28.","12:45:00",1,{"$f":"AA2","v":"Men Group D"},{"$f":"AA6","v":"Czech Republic"},{"$f":"AA5","v":"Sweden"},3,3,null,null,"Gemany U-21",{"$f":"G17","v":1},{"$f":"H17","v":3},{"$f":"H23","v":2},{"$f":"G23","v":4},null,null,null,{"$f":"L31+N31","v":3},{"$f":"-O31-M31","v":-7},{"$f":"T31+S31","v":-4},1,2,"3.","Poland",null,{"$f":"Schedule!Y26","v":"Poland U-21"},{"$f":"Schedule!H44","v":2},{"$f":"Schedule!G44","v":7},{"$f":"Schedule!G36","v":5},{"$f":"Schedule!H36","v":6},null,null,null,{"$f":"AB31+AD31","v":7},{"$f":"-AC31-AE31","v":-13},{"$f":"AJ31+AI31","v":-6},2,3,"3.","Poland U-21"]
["29.","12:45:00",2,{"$f":"AA8","v":"Men Group E"},{"$f":"AA11","v":"Lithuania"},{"$f":"AA10","v":"Denmark"},0,8]
["30.","12:45:00",3,{"$f":"AA13","v":"Men Group F"},{"$f":"AA16","v":"Russia"},{"$f":"AA15","v":"Poland"},1,6,null,null,"U21M Group A","R1",null,"R2",null,"R3",null,null,"+","-","\\","Pkt.","Miejsce",null,"Miejsce",null,"U21M Group D","U1",null,"U2",null,"U3",null,null,"+","-","\\","Pkt.","Miejsce",null,"Miejsce"]
["31.","13:20:00",1,{"$f":"Schedule!AA18","v":"W&U-21 (Group D)"},{"$f":"Schedule!AA21","v":"Poland"},{"$f":"Schedule!AA20","v":"Russia"},6,3,null,null,"Germany",null,null,{"$f":"G10","v":9},{"$f":"H10","v":2},{"$f":"H21","v":5},{"$f":"G21","v":1},null,{"$f":"N34+P34","v":14},{"$f":"-O34-Q34","v":-3},{"$f":"T34+S34","v":11},6,null,"1.","Germany",null,{"$f":"Schedule!Y34","v":"Germany"},null,null,{"$f":"Schedule!H56","v":5},{"$f":"Schedule!G56","v":2},{"$f":"Schedule!G48","v":7},{"$f":"Schedule!H48","v":1},null,{"$f":"AD34+AF34","v":12},{"$f":"-AE34-AG34","v":-3},{"$f":"AJ34+AI34","v":9},6,1,"1.","Germany"]
["32.","13:20:00",2,{"$f":"Schedule!AA23","v":"W&U-21 (Group E)"},{"$f":"Schedule!AA26","v":"Denmark"},{"$f":"Schedule!AA25","v":"Germany u-21"},1,5,null,null,"Lithuania",{"$f":"H10","v":2},{"$f":"G10","v":9},null,null,{"$f":"G29","v":2},{"$f":"H29","v":5},null,{"$f":"P35+L35","v":4},{"$f":"-Q35-M35","v":-14},{"$f":"T35+S35","v":-10},2,null,"2.","Russia",null,{"$f":"Schedule!Y40","v":"Denmark"},{"$f":"Schedule!G56","v":2},{"$f":"Schedule!H56","v":5},null,null,{"$f":"Schedule!H37","v":3},{"$f":"Schedule!G37","v":4},null,{"$f":"AF35+AB35","v":5},{"$f":"-AG35-AC35","v":-9},{"$f":"AJ35+AI35","v":-4},2,3,"2.","Hungary"]
["33.","13:20:00",3,{"$f":"Schedule!AA28","v":"W&U-21 (Group F)"},{"$f":"Schedule!AA31","v":"Poland U-21"},{"$f":"Schedule!AA30","v":"Czech Republik"},5,6,null,null,"Russia",{"$f":"G21","v":1},{"$f":"H21","v":5},{"$f":"H29","v":5},{"$f":"G29","v":2},null,null,null,{"$f":"L36+N36","v":6},{"$f":"-M36-O36","v":-7},{"$f":"T36+S36","v":-1},4,null,"3.","Lithuania",null,{"$f":"Schedule!Y46","v":"Hungary"},{"$f":"Schedule!H48","v":1},{"$f":"Schedule!G48","v":7},{"$f":"Schedule!G37","v":4},{"$f":"Schedule!H37","v":3},null,null,null,{"$f":"AB36+AD36","v":5},{"$f":"-AC36-AE36","v":-10},{"$f":"AJ36+AI36","v":-5},4,2,"3.","Denmark"]
["34.","13:55:00",1,{"$f":"Schedule!AA33","v":"U21M Group D"},{"$f":"Schedule!AA36","v":"Hungary"},{"$f":"Schedule!AA35","v":"Denmark"},4,3]
["35.","13:55:00",2,{"$f":"Schedule!AA38","v":"U21M Group E"},{"$f":"Schedule!AA41","v":"Lithuania"},{"$f":"Schedule!AA40","v":"Netherlands"},4,9,null,null,"U-21M Group B","S1",null,"S2",null,"S3",null,null,"+","-","\\","Pkt.","Miejsce",null,"Miejsce",null,"U21M Group E","W1",null,"W2",null,"W3",null,null,"+","-","\\","Pkt.","Miejsce",null,"Miejsce"]
["36.","13:55:00",3,{"$f":"Schedule!AA43","v":"U21M Group F"},{"$f":"Schedule!AA46","v":"Poland B"},{"$f":"Schedule!AA45","v":"Russia"},1,5,null,null,"Denmark ",null,null,{"$f":"G11","v":3},{"$f":"H11","v":3},{"$f":"H19","v":2},{"$f":"G19","v":2},null,{"$f":"N39+P39","v":5},{"$f":"-O39-Q39","v":-5},{"$f":"T39+S39","v":0},4,null,"1.","Italy",null,{"$f":"Schedule!Y39","v":"Italy"},null,null,{"$f":"Schedule!H57","v":7},{"$f":"Schedule!G57","v":4},{"$f":"Schedule!G46","v":11},{"$f":"Schedule!H46","v":2},null,{"$f":"AD39+AF39","v":18},{"$f":"-AE39-AG39","v":-6},{"$f":"AJ39+AI39","v":12},6,1,"1.","Italy"]
["37.","14:30:00",1,{"$f":"AA8","v":"Men Group E"},{"$f":"AA9","v":"Germany"},{"$f":"AA11","v":"Lithuania"},17,1,null,null,"Italy ",{"$f":"H11","v":3},{"$f":"G11","v":3},null,null,{"$f":"G30","v":5},{"$f":"H30","v":3},null,{"$f":"P40+L40","v":8},{"$f":"-Q40-M40","v":-6},{"$f":"T40+S40","v":2},5,null,"2.","Denmark",null,{"$f":"Schedule!Y45","v":"Netherlands"},{"$f":"Schedule!G57","v":4},{"$f":"Schedule!H57","v":7},null,null,{"$f":"Schedule!H38","v":9},{"$f":"Schedule!G38","v":4},null,{"$f":"AF40+AB40","v":13},{"$f":"-AG40-AC40","v":-11},{"$f":"AJ40+AI40","v":2},4,2,"2.","Netherlands"]
["38.","14:30:00",2,{"$f":"AA13","v":"Men Group F"},{"$f":"AA14","v":"Netherlands"},{"$f":"AA16","v":"Russia"},14,2,null,null,"Poland B",{"$f":"G19","v":2},{"$f":"H19","v":2},{"$f":"H30","v":3},{"$f":"G30","v":5},null,null,null,{"$f":"L41+N41","v":5},{"$f":"-M41-O41","v":-7},{"$f":"T41+S41","v":-2},3,null,"3.","Poland B",null,{"$f":"Schedule!Y36","v":"Lithuania"},{"$f":"Schedule!H46","v":2},{"$f":"Schedule!G46","v":11},{"$f":"Schedule!G38","v":4},{"$f":"Schedule!H38","v":9},null,null,null,{"$f":"AB41+AD41","v":6},{"$f":"-AC41-AE41","v":-20},{"$f":"AJ41+AI41","v":-14},2,3,"3.","Lithuania"]
["39.","14:30:00",3,{"$f":"AA2","v":"Men Group D"},{"$f":"AA4","v":"Italy"},{"$f":"AA6","v":"Czech Republic"},8,1]
["40.","15:05:00",1,{"$f":"Schedule!AA23","v":"W&U-21 (Group E)"},{"$f":"Schedule!AA24","v":"Great Britain"},{"$f":"Schedule!AA26","v":"Denmark"},9,1,null,null,"U-21M Group C","T1",null,"T2",null,"T3",null,null,"+","-","\\","Pkt.","Miejsce",null,"Miejsce",null,"U21M Group F","X1",null,"X2",null,"X3",null,null,"+","-","\\","Pkt.","Miejsce",null,"Miejsce"]
["41.","15:05:00",2,{"$f":"Schedule!AA28","v":"W&U-21 (Group F)"},{"$f":"Schedule!AA29","v":"Italy"},{"$f":"Schedule!AA31","v":"Poland U-21"},7,2,null,null,"Netherlands",null,null,{"$f":"G12","v":3},{"$f":"H12","v":5},{"$f":"H20","v":6},{"$f":"G20","v":5},null,{"$f":"N44+P44","v":9},{"$f":"-Q44-O44","v":-10},{"$f":"T44+S44","v":-1},4,null,"1.","Poland A",null,{"$f":"Schedule!Y44","v":"Poland A"},null,null,{"$f":"Schedule!H55","v":5},{"$f":"Schedule!G55","v":6},{"$f":"Schedule!G47","v":6},{"$f":"Schedule!H47","v":1},null,{"$f":"AF44+AD44","v":11},{"$f":"-AE44-AG44","v":-7},{"$f":"AJ44+AI44","v":4},6,1,"1.","Poland A"]
["42.","15:05:00",3,{"$f":"Schedule!AA18","v":"W&U-21 (Group D)"},{"$f":"Schedule!AA19","v":"Germany "},{"$f":"Schedule!AA21","v":"Poland"},6,2,null,null,"Poland A",{"$f":"G12","v":3},{"$f":"H12","v":5},null,null,{"$f":"G28","v":5},{"$f":"H28","v":5},null,{"$f":"P45+L45","v":8},{"$f":"-M45-Q45","v":-10},{"$f":"T45+S45","v":-2},5,null,"2.","Netherlands",null,{"$f":"Schedule!Y35","v":"Russia"},{"$f":"Schedule!G55","v":6},{"$f":"Schedule!H55","v":5},null,null,{"$f":"Schedule!H39","v":5},{"$f":"Schedule!G39","v":1},null,{"$f":"AF45+AB45","v":11},{"$f":"-AG45-AC45","v":-6},{"$f":"AJ45+AI45","v":5},4,2,"2.","Russia"]
["43.","15:40:00",1,{"$f":"Schedule!AA38","v":"U21M Group E"},{"$f":"Schedule!AA39","v":"Italy"},{"$f":"Schedule!AA41","v":"Lithuania"},11,2,null,null,"Hungary",{"$f":"G20","v":5},{"$f":"H20","v":6},{"$f":"H28","v":5},{"$f":"G28","v":5},null,null,null,{"$f":"L46+N46","v":10},{"$f":"-O46-M46","v":-11},{"$f":"T46+S46","v":-1},3,null,"3.","Hungary",null,{"$f":"Schedule!Y41","v":"Poland B"},{"$f":"Schedule!H47","v":1},{"$f":"Schedule!G47","v":6},{"$f":"Schedule!G39","v":1},{"$f":"Schedule!H39","v":5},null,null,null,{"$f":"AB46+AD46","v":2},{"$f":"-AC46-AE46","v":-11},{"$f":"AJ46+AI46","v":-9},2,3,"3.","Poland B"]
["44.","15:40:00",2,{"$f":"Schedule!AA43","v":"U21M Group F"},{"$f":"Schedule!AA44","v":"Poland A"},{"$f":"Schedule!AA46","v":"Poland B"},6,1]
["45.","15:40:00",3,{"$f":"Schedule!AA33","v":"U21M Group D"},{"$f":"Schedule!AA34","v":"Germany"},{"$f":"Schedule!AA36","v":"Hungary"},7,1]
["46.","16:15:00",1,{"$f":"D41","v":"Men Group F"},{"$f":"AA15","v":"Poland"},{"$f":"AA14","v":"Netherlands"},3,3]
["47.","16:15:00",2,{"$f":"D42","v":"Men Group D"},{"$f":"AA5","v":"Sweden"},{"$f":"AA4","v":"Italy"},0,5]
["48.","16:15:00",3,{"$f":"D40","v":"Men Group E"},{"$f":"AA10","v":"Denmark"},{"$f":"AA9","v":"Germany"},1,2]
["49.","16:50:00",1,{"$f":"D44","v":"W&U-21 (Group F)"},{"$f":"Schedule!AA30","v":"Czech Republik"},{"$f":"Schedule!AA29","v":"Italy"},2,9]
["50.","16:50:00",2,{"$f":"D45","v":"W&U-21 (Group D)"},{"$f":"Schedule!AA20","v":"Russia"},{"$f":"Schedule!AA19","v":"Germany "},0,9]
["51.","16:50:00",3,{"$f":"D43","v":"W&U-21 (Group E)"},{"$f":"Schedule!AA25","v":"Germany u-21"},{"$f":"Schedule!AA24","v":"Great Britain"},4,3]
["52.","17:25:00",1,{"$f":"Schedule!AA43","v":"U21M Group F"},{"$f":"Schedule!AA45","v":"Russia"},{"$f":"Schedule!AA44","v":"Poland A"},6,5]
["53.","17:25:00",2,{"$f":"Schedule!AA33","v":"U21M Group D"},{"$f":"Schedule!AA35","v":"Denmark"},{"$f":"Schedule!AA34","v":"Germany"},2,5]
["54.","17:25:00",3,{"$f":"Schedule!AA38","v":"U21M Group E"},{"$f":"Schedule!AA40","v":"Netherlands"},{"$f":"Schedule!AA39","v":"Italy"},4,7]
["55.","18:00:00",1,{"$f":"AQ2","v":"Man Group G"},{"$f":"AQ4","v":"Italy"},{"$f":"AQ8","v":"Denmark"},4,2,null,null,null,null,"d","l"]
["56.","18:00:00",2,{"$f":"AQ2","v":"Man Group G"},{"$f":"AQ5","v":"Germany"},{"$f":"AQ9","v":"Poland"},6,3,null,null,null,null,"e","m"]
["57.","18:00:00",3,{"$f":"AQ2","v":"Man Group G"},{"$f":"AQ6","v":"Netherland"},{"$f":"AQ7","v":"Sweden"},12,3,null,null,null,null,"f","n"]
["58.","18:35:00",1,{"$f":"AQ11","v":"W&U-21 Group G"},{"$f":"AQ12","v":"Germany"},{"$f":"AQ16","v":"Great Britain"},5,3]
["59.","18:35:00",2,{"$f":"AQ11","v":"W&U-21 Group G"},{"$f":"AQ13","v":"Germany U-21"},{"$f":"AQ17","v":"Czech Rep."},13,1]
["60.","18:35:00",3,{"$f":"AQ11","v":"W&U-21 Group G"},{"$f":"AQ14","v":"Italy"},{"$f":"AQ15","v":"Poland"},3,1]
["61.","19:10:00",1,{"$f":"AQ19","v":"U-21M Group G"},{"$f":"AQ20","v":"Germany"},{"$f":"AQ24","v":"Netherlands"},6,2]
["62.","19:10:00",2,{"$f":"AQ19","v":"U-21M Group G"},{"$f":"AQ21","v":"Italy"},{"$f":"AQ25","v":"Russia"},4,2]
["63.","19:10:00",3,{"$f":"AQ19","v":"U-21M Group G"},{"$f":"AQ22","v":"Poland A"},{"$f":"AQ23","v":"Hungary"},5,4]
["64.","19:45:00",1,{"$f":"BM2","v":"Man Place (7-9)"},{"$f":"BM4","v":"Czech Rep."},{"$f":"BM5","v":"Lithuania"},3,4]
["65.","19:45:00",2,{"$f":"BM8","v":"W&U-21 Place (7-9)"},{"$f":"BM9","v":"Russia"},{"$f":"BM10","v":"Denmark"},3,3]
["66.","19:45:00",3,{"$f":"BM13","v":"U-21M Place (7-9)"},{"$f":"BM14","v":"Denmark"},{"$f":"BM15","v":"Lithuania"},6,2]
["NIEDZIELA"]
[]
[67,"07:30:00",1,{"$f":"AQ2","v":"Man Group G"},{"$f":"F58","v":"Denmark"},{"$f":"E60","v":"Netherland"},2,4]
[68,"07:30:00",2,{"$f":"AQ2","v":"Man Group G"},"Poland",{"$f":"E58","v":"Italy"},0,5]
[69,"07:30:00",3,{"$f":"AQ2","v":"Man Group G"},"Sweden",{"$f":"E59","v":"Germany"},1,5]
[70,"08:05:00",1,{"$f":"AQ11","v":"W&U-21 Group G"},"Great Britain",{"$f":"E63","v":"Italy"},2,4]
[71,"08:05:00",2,{"$f":"AQ11","v":"W&U-21 Group G"},"Czech Rep.",{"$f":"E61","v":"Germany"},2,4]
[72,"08:05:00",3,{"$f":"AQ11","v":"W&U-21 Group G"},"Poland",{"$f":"E62","v":"Germany U-21"},3,3]
[73,"08:40:00",1,{"$f":"AQ19","v":"U-21M Group G"},"Netherlands",{"$f":"E66","v":"Poland A"},3,3]
[74,"08:40:00",2,{"$f":"AQ19","v":"U-21M Group G"},"Russia",{"$f":"E64","v":"Germany"},2,4]
[75,"08:40:00",3,{"$f":"AQ19","v":"U-21M Group G"},"Hungary",{"$f":"E65","v":"Italy"},2,6]
[76,"09:15:00",1,{"$f":"BM13","v":"U-21M Place (7-9)"},{"$f":"BM16","v":"Poland B"},{"$f":"E69","v":"Denmark"},1,6]
[77,"09:15:00",2,{"$f":"BM2","v":"Man Place (7-9)"},{"$f":"BM6","v":"Russia"},{"$f":"E67","v":"Czech Rep."},1,1]
[78,"09:15:00",3,{"$f":"BM8","v":"W&U-21 Place (7-9)"},{"$f":"BM11","v":"Poland U-21"},{"$f":"E68","v":"Russia"},3,6]
[79,"09:50:00",1,"Men SF",{"$f":"BK4","v":"Netherlands"},{"$f":"BK7","v":"Denmark"},7,4]
[80,"09:50:00",2,"Men SF",{"$f":"BK5","v":"Germany"},{"$f":"BK6","v":"Italy"},4,2]
[81,"09:50:00",3,"S V-VI",{"$f":"BK8","v":"Poland"},{"$f":"BK9","v":"Sweden"},4,2]
[82,"10:25:00",1,"W&u-21 SF",{"$f":"BK12","v":"Germany"},{"$f":"BK15","v":"Poland"},4,3]
[83,"10:25:00",2,"W&u-21 SF",{"$f":"BK13","v":"Germany u-21"},{"$f":"BK14","v":"Italy"},2,1]
[84,"10:25:00",3,"W&U-21 V-VI",{"$f":"BK16","v":"Great Britain"},{"$f":"BK17","v":"Czech Rep."},9,0]
[85,"11:00:00",1,"U21SF",{"$f":"BK20","v":"Italy"},{"$f":"BK23","v":"Netherlands"},8,2]
[86,"11:00:00",2,"U21SF",{"$f":"BK21","v":"Germany"},{"$f":"BK22","v":"Poland A"},5,4]
[87,"11:00:00",3,"U21 V-VI",{"$f":"BK24","v":"Hungary"},{"$f":"BK25","v":"Russia"},3,6]
[88,"11:35:00",1,{"$f":"D83","v":"W&U-21 Place (7-9)"},{"$f":"F68","v":"Denmark"},{"$f":"E83","v":"Poland U-21"},1,5]
[89,"11:35:00",2,{"$f":"BM13","v":"U-21M Place (7-9)"},{"$f":"F69","v":"Lithuania"},{"$f":"E81","v":"Poland B"},3,4]
[90,"11:35:00",3,{"$f":"D82","v":"Man Place (7-9)"},{"$f":"F67","v":"Lithuania"},{"$f":"E82","v":"Russia"},2,4]
[91,"12:20:00",1,"S III-IV","Denmark","Italy",4,6]
[92,"12:20:00",2,"W III-IV","Poland ","Italy",1,2]
[93,"12:20:00",3,"U21 III-IV","Poland A","Netherlands",6,0]
[94,"13:00:00",1,"U21 I-II","Italy","Germany",3,2]
[null,"13:00:00",2]
[null,"13:30:00",3]
[95,"13:40:00",1,"W I-II","Germany","Germany U-21",5,2]
[null,"13:40:00",2]
[null,"13:40:00",3]
[96,"14:20:00",1,"S I-II","Netherlands","Germany",10,7]
[null,"14:20:00",2]
[null,"14:20:00",3]
[]
[]
[]
[]
[]
[null,null,null,null,"MEN","WOMEN & U-21",null,null,"MEN U-21",null,"piotr.bajerski@gmail.com"]
[null,null,null,"1."]
[null,null,null,"2."]
[null,null,null,"3.","Italy","Italy",null,null,"Poland"]
[null,null,null,"4.","Denmark","Poland",null,null,"Netherlands"]
[null,null,null,"5.","Poland","Great Britain",null,null,"Russia"]
[null,null,null,"6.","Sweden","Czech Rep. ",null,null,"Hungary "]
[null,null,null,"7.","Russia","Russian ",null,null,"Denmark"]
[null,null,null,"8.","Lithuania ","Poland",null,null,"Poland B"]
[null,null,null,"9.","Czech Republic","Denmark",null,null,"Lithuania"]

{"sheet":"Protokoll","index":1,"n_rows":46,"n_cols":19,"rows_kept":46,"cut":false,"hidden":false,"merged":[[37,5,37,7],[38,5,38,7],[39,5,39,7],[40,5,40,7],[37,1,37,3],[38,1,38,3],[39,1,39,3],[40,1,40,3],[36,5,36,7],[31,1,31,3],[32,1,32,3],[33,1,33,3],[34,1,34,3],[35,1,35,3],[36,1,36,3],[31,5,31,7],[32,5,32,7],[33,5,33,7],[34,5,34,7],[35,5,35,7],[30,6,30,7],[28,4,28,7],[28,0,28,3],[8,0,8,2],[9,0,9,2],[10,0,10,2],[11,0,11,2],[12,0,12,2],[23,0,23,2],[15,0,15,3],[17,0,17,2],[18,0,18,2],[19,0,19,2],[20,0,20,2],[21,0,21,2],[22,0,22,2],[42,14,42,15],[30,14,30,15],[27,10,27,11],[27,13,27,14],[1,15,2,15],[40,14,40,15],[31,12,32,12],[34,12,35,12],[37,10,37,13],[1,16,2,16],[1,17,2,17],[1,18,2,18],[10,5,23,7],[29,1,29,3],[1,14,2,14],[29,5,29,7],[1,0,1,3],[2,0,2,3],[13,0,13,2],[14,0,14,2],[16,0,16,2]]}
["EUROPEAN CANOE FEDERATION",null,null,null,null,null,null,null,null,null,null,"Team 1",":","Team 2 "]
["canoe polo",null,null,null,null,null,null,null,null,null,null,"Netherlands",":","Germany","goal","green","yellow","red","Remarks"]
["game sheet",null,null,null,null,null,null,null,null,null,"time","player no.","score",{"$f":"+L3","v":"player no."}]
[null,null,null,null,null,null,null,null,null,null,null,null,":"]
["Tournament",null,null,"ECA CUP 2016",null,null,null,null,null,null,null,null,":"]
[null,null,null,"KANIOW Poland",null,null,null,null,null,null,null,null,":"]
[null,null,null,null,null,null,null,null,null,null,null,null,":"]
[null,null,null,null,null,null,null,null,null,null,null,null,":"]
["Game No.",null,null,96,null,"Remarks of the jury",null,null,null,null,null,null,":"]
["Start of Game",null,null,"14:20:00",null,null,null,null,null,null,null,null,":"]
["Pitch",null,null,1,null,null,null,null,null,null,null,null,":"]
["Class",null,null,"Men FINAL",null,null,null,null,null,null,null,null,":"]
["Date",null,null,"29.05.2016",null,null,null,null,null,null,null,null,":"]
["Playing Time",null,null,"2x10 min",null,null,null,null,null,null,null,null,":"]
["Break",null,null,"3 min",null,null,null,null,null,null,null,null,":"]
["Referees",null,null,null,null,null,null,null,null,null,null,null,":"]
["1. Referee",null,null,null,null,null,null,null,null,null,null,null,":"]
["2. Referee",null,null,null,null,null,null,null,null,null,null,null,":"]
["Score Keeper",null,null,null,null,null,null,null,null,null,null,null,":"]
["1. Time Keeper",null,null,null,null,null,null,null,null,null,null,null,":"]
["2. Shot Clock Keeper",null,null,null,null,null,null,null,null,null,null,null,":"]
["Llinesman",null,null,null,null,null,null,null,null,null,null,null,":"]
["Linesman",null,null,null,null,null,null,null,null,null,null,null,":"]
["Scrutineer",null,null,null,null,null,null,null,null,null,null,null,":"]
[null,null,null,null,null,null,null,null,null,null,null,null,":"]
["remarks of organisation:",null,null,null,null,null,null,null,null,null,null,null,":"]
[null,null,null,null,null,null,null,null,null,null,null,null,":"]
[null,null,null,null,null,null,null,null,null,null,"Team 1",null,":","Team 2 "]
["Team 1",null,null,null,"Team 2"]
[null,null,null,null,null,null,null,null,null,null,null,null,":"]
["No.","Name",null,"Surname","No.","Name","Surname"]
[1,"Es, van Bart","Es, van Bart","Es, van Bart",1,"Witt Dennis","Witt Dennis","Witt Dennis",null,null,"half time score",null,":"]
[2,"Pel Mats","Pel Mats","Pel Mats",2,"Husen Jakob","Husen Jakob","Husen Jakob"]
[3,"Bryce Hollman","Bryce Hollman","Bryce Hollman",3,"Hoppstock Marco","Hoppstock Marco","Hoppstock Marco"]
[4,"Dylan Tought","Dylan Tought","Dylan Tought",4,"Richter Lukas","Richter Lukas","Richter Lukas",null,null,"final score",null,":"]
[5,"Remko Van Vliet","Remko Van Vliet","Remko Van Vliet",5,"Heile Robin","Heile Robin","Heile Robin"]
[6,"Joost Horstink","Joost Horstink","Joost Horstink",6,"Pest Robert","Pest Robert","Pest Robert"]
[7,"Martijn Aben","Martijn Aben","Martijn Aben",7,"Schaeper Finn","Schaeper Finn","Schaeper Finn",null,null,"Referee remakrs on backside?"]
[8,"Jouke Sjollema","Jouke Sjollema","Jouke Sjollema",8,"Vieren Jonas","Vieren Jonas","Vieren Jonas",null,null,"Yes",null,"No"]
[9,"Roy Dekkers","Roy Dekkers","Roy Dekkers",9,"Knopp Harald","Knopp Harald","Knopp Harald"]
[10,"Stefan Wight","Stefan Wight","Stefan Wight",10,"Fiete Junge","Fiete Junge","Fiete Junge",null,null,"Time at end of game"]
[]
[null,"Captain please mark with *"]
[]
[]
[null,"Signature of captain team 1",null,null,null,"Signature of captain team 2",null,null,null,null,null,"signature of 1. referee"]

{"sheet":"Tables","index":2,"n_rows":13,"n_cols":31,"rows_kept":13,"cut":false,"hidden":false,"merged":[]}
[null,"W&U-21 ","Germany ","Germany u-21","Italy","poland","gb","czech rep","suma",null,"men 7-9","czech rep","lithuania ","russia","suma",null,"U-21M ","germany","italy","poland a","hungary","netherlands","russia","suma",null,null,"W&U-21 Place 7-9","russia","denmark","poland u-21","suma"]
[null,"Germany ",null,null,null,null,3,3,{"$f":"SUM(C2:H2)","v":6},6,"Czech rep",null,1,2,{"$f":"SUM(L2:N2)","v":3},null,"germany",null,null,null,null,3,3,{"$f":"SUM(R2:W2)","v":6},6,null,"Russia ",null,2,3,{"$f":"SUM(AC2:AD2)","v":5}]
[null,"Germany u-21",null,null,null,2,null,3,{"$f":"SUM(C3:H3)","v":5},5,"lithuania",3,null,1,{"$f":"SUM(L3:N3)","v":4},null,"italy",null,null,null,3,null,3,{"$f":"SUM(R3:W3)","v":6},6,null,"denmark",2,null,1,{"$f":"SUM(AC3:AD3)","v":1}]
[null,"Italy",null,null,null,3,3,null,6,6,"russia",2,3,null,5,null,"poland a",null,null,null,3,2,null,5,5,null,"poland-u21",1,3,null,3]
[null,"poland",null,2,1,null,null,null,3,3,null,null,null,null,null,null,"hungary",null,1,1,null,null,null,2,2]
[null,"gb",1,null,1,null,null,null,2,2,null,null,null,null,null,null,"netherlands",1,null,2,null,null,null,3,3]
[null,"czech rep",1,1,null,null,null,null,2,2,null,null,null,null,null,null,"russia",1,1,null,null,null,null,2,2]
[]
[]
[null,"u-21 M 7-9","denmark","lithuania","poland b","suma"]
[null,"denmark ",null,3,3,{"$f":"SUM(C11:E11)","v":6}]
[null,"lithuania",1,null,1,{"$f":"SUM(C12:E12)","v":2}]
[null,"poland b",1,3,null,4]

{"sheet":"Official Results","index":3,"n_rows":12,"n_cols":7,"rows_kept":12,"cut":false,"hidden":false,"merged":[[9,6,9,7],[10,6,10,7],[11,6,11,7],[9,4,9,5],[10,4,10,5],[11,4,11,5],[2,6,2,7],[3,6,3,7],[4,6,4,7],[5,6,5,7],[6,6,6,7],[7,6,7,7],[8,6,8,7],[9,2,9,3],[10,2,10,3],[11,2,11,3],[2,4,2,5],[3,4,3,5],[4,4,4,5],[5,4,5,5],[6,4,6,5],[7,4,7,5],[8,4,8,5],[9,0,9,1],[10,0,10,1],[11,0,11,1],[2,2,2,3],[3,2,3,3],[4,2,4,3],[5,2,5,3],[6,2,6,3],[7,2,7,3],[8,2,8,3],[0,0,1,7],[2,0,2,1],[3,0,3,1],[4,0,4,1],[5,0,5,1],[6,0,6,1],[7,0,7,1],[8,0,8,1]]}
["OFFICIAL RESULTS OF 1st ECA CUP 2016 KANIÓW, POLAND "]
[]
["Place",null,"MEN",null,"WOMEN & WOMEN U-21",null,"MEN U-21"]
["1st",null,"Netherlands",null,"Germany",null,"Italy"]
["2nd",null,"Germany",null,"Germany U-21",null,"Germany"]
["3rd",null,"Italy",null,"Italy",null,"Poland A"]
["4th",null,"Denmark",null,"Poland",null,"Netherlands"]
["5th",null,"Poland",null,"Great Britain",null,"Russia"]
["6th",null,"Sweden",null,"Czech Rep. ",null,"Hungary "]
["7th",null,"Russia",null,"Russian ",null,"Denmark"]
["8th",null,"Lithuania ",null,"Poland",null,"Poland B"]
["9th",null,"Czech Republic",null,"Denmark",null,"Lithuania"]